BEGIN:VCALENDAR
VERSION:2.0
PRODID:-//Squarespace Inc/Squarespace 6//v6//EN
BEGIN:VEVENT
UID:5a73be02ec212dd98fad362f@squarespace.com
DTSTAMP:20180202T012818Z
DTSTART:20180213T224500Z
DTEND:20180214T001500Z
SUMMARY:Qigong classes
END:VEVENT
END:VCALENDAR
