BEGIN:VCALENDAR
VERSION:2.0
PRODID:-//Squarespace Inc/Squarespace 6//v6//EN
BEGIN:VEVENT
UID:59c33eeb64b05fb1d24273ea@squarespace.com
DTSTAMP:20170921T044239Z
DTSTART:20170929T233000Z
DTEND:20171001T193000Z
SUMMARY:The Awakening Heart
GEO:-43.536274;172.666455
LOCATION:Christchurch Buddhist Centre\, 43 Harrow Street\, Christchurch\, C
 anterbury\, 8011\, New Zealand
END:VEVENT
END:VCALENDAR
