BEGIN:VCALENDAR
VERSION:2.0
PRODID:-//Squarespace Inc/Squarespace 6//v6//EN
BEGIN:VEVENT
UID:59c33b04ccc5c545d438637f@squarespace.com
DTSTAMP:20170921T041741Z
DTSTART:20170927T233000Z
DTEND:20170928T010000Z
SUMMARY:Communicating from the Heart
END:VEVENT
END:VCALENDAR
