BEGIN:VCALENDAR
VERSION:2.0
PRODID:-//Squarespace Inc/Squarespace 6//v6//EN
BEGIN:VEVENT
UID:596ef91603596edadc70bc5c@squarespace.com
DTSTAMP:20170719T062119Z
DTSTART:20170720T233000Z
DTEND:20170721T013000Z
SUMMARY:Friends of Tibet movie fundraiser and discussion
END:VEVENT
END:VCALENDAR
