BEGIN:VCALENDAR
VERSION:2.0
PRODID:-//Squarespace Inc/Squarespace 6//v6//EN
BEGIN:VEVENT
UID:595086811b631bec82392fa5@squarespace.com
DTSTAMP:20170626T041032Z
DTSTART:20170629T233000Z
DTEND:20170630T013000Z
SUMMARY:Beanbags and Helicopters: Mindfulness and Awareness practice on and 
 off the meditation cushion.
GEO:-43.536274;172.666455
LOCATION:Christchurch Buddhist Centre\, 43 Harrow Street\, Christchurch\, C
 anterbury\, 8011\, New Zealand
END:VEVENT
END:VCALENDAR
