BEGIN:VCALENDAR
VERSION:2.0
PRODID:-//Squarespace Inc/Squarespace 6//v6//EN
BEGIN:VEVENT
UID:59e7cb17ace86414ec9fd17a@squarespace.com
DTSTAMP:20171018T214756Z
DTSTART:20171027T230000Z
DTEND:20171028T003000Z
SUMMARY:Happiness... an Inside Job
GEO:-43.570065;172.759504
LOCATION:42 Nayland Street\, Christchurch\, Canterbury\, 8081\, New Zealand
END:VEVENT
END:VCALENDAR
