BEGIN:VCALENDAR
VERSION:2.0
PRODID:-//Squarespace Inc/Squarespace 6//v6//EN
BEGIN:VEVENT
UID:59e91464d74cff0bea479870@squarespace.com
DTSTAMP:20171019T211150Z
DTSTART:20171026T233000Z
DTEND:20171027T013000Z
SUMMARY:Movie night: Crazy Wisdom - The Life & Times of Chogyam Trungpa Rin
 poche
END:VEVENT
END:VCALENDAR
