BEGIN:VCALENDAR
VERSION:2.0
PRODID:-//Squarespace Inc/Squarespace 6//v6//EN
BEGIN:VEVENT
UID:59e3f9cad55b41421a4edac3@squarespace.com
DTSTAMP:20171018T221308Z
DTSTART:20171019T233000Z
DTEND:20171020T010000Z
SUMMARY:The Bodhisattva’s Boundaries
GEO:-43.536274;172.666455
LOCATION:Christchurch Buddhist Centre\, 43 Harrow Street\, Christchurch\, C
 anterbury\, 8011\, New Zealand
END:VEVENT
END:VCALENDAR
